BEGIN:VCALENDAR
VERSION:2.0
PRODID:-//ChamberMaster//Event Calendar 2.0//EN
METHOD:PUBLISH
X-PUBLISHED-TTL:P3D
REFRESH-INTERVAL:P3D
CALSCALE:GREGORIAN
BEGIN:VEVENT
DTSTART:20250123T133000Z
DTEND:20250123T143000Z
X-MICROSOFT-CDO-ALLDAYEVENT:FALSE
SUMMARY:Coffee & Connections
DESCRIPTION:Great days start with great connections.\n\n\n\nSo\, start your day off the right way at Coffee & Connections\, the newest early-morning networking program from the Greater Dalton Chamber. Join staff and fellow professionals for coffee to make new connections\, have meaningful conversations\, and kickstart your workday feeling confident and caffeinated!
X-ALT-DESC;FMTTYPE=text/html:<span style="font-size:18px\;"><span style="font-family:times new roman\;"><strong>Great days start with great connections.</strong><br />\n<br />\nSo\, start your day off the&nbsp\;<em>right way</em>&nbsp\;at Coffee &amp\; Connections\, the newest early-morning networking program from the Greater Dalton Chamber. Join staff and fellow professionals for coffee to make new connections\, have meaningful conversations\, and kickstart your workday feeling confident and caffeinated!</span></span><br />\n<br />\n&nbsp\;
LOCATION:Greater Dalton Chamber building 100 S. Hamilton St.
UID:e.763.3319
SEQUENCE:3
DTSTAMP:20260421T193254Z
URL:http://dalton.chambermaster.com/events/details/coffee-connections-3319
END:VEVENT

END:VCALENDAR
